BEGIN:VCALENDAR
VERSION:2.0
PRODID:-//Pharmacy and Pharmaceutical Sciences - ECPv6.1.3//NONSGML v1.0//EN
CALSCALE:GREGORIAN
METHOD:PUBLISH
X-WR-CALNAME:Pharmacy and Pharmaceutical Sciences
X-ORIGINAL-URL:https://pharmacy.wsu.edu
X-WR-CALDESC:Events for Pharmacy and Pharmaceutical Sciences
REFRESH-INTERVAL;VALUE=DURATION:PT1H
X-Robots-Tag:noindex
X-PUBLISHED-TTL:PT1H
BEGIN:VTIMEZONE
TZID:America/Los_Angeles
BEGIN:DAYLIGHT
TZOFFSETFROM:-0800
TZOFFSETTO:-0700
TZNAME:PDT
DTSTART:20250309T100000
END:DAYLIGHT
BEGIN:STANDARD
TZOFFSETFROM:-0700
TZOFFSETTO:-0800
TZNAME:PST
DTSTART:20251102T090000
END:STANDARD
END:VTIMEZONE
BEGIN:VEVENT
DTSTART;TZID=America/Los_Angeles:20251208T180000
DTEND;TZID=America/Los_Angeles:20251208T200000
DTSTAMP:20260423T162800
CREATED:20250917T185139Z
LAST-MODIFIED:20251209T004012Z
UID:10000603-1765216800-1765224000@pharmacy.wsu.edu
SUMMARY:ASHP CougaRx Nation Alumni & Friends Reception
DESCRIPTION:Join the CougaRx Nation Alumni Community in Las Vegas for our reception during the ASHP Midyear Clinical Meeting. This is a wonderful opportunity to connect and engage with Cougar pharmacists\, students\, faculty\, staff and friends. \nOnce you get to the Luxor Hotel – head to the Gold elevators and there will be someone there to help you find us (Floor 22\, Room 213).
URL:https://pharmacy.wsu.edu/calendar/ashp-cougarx-nation-alumni-friends-reception/
LOCATION:Luxor Hotel & Casino – Tower One Penthouse Suite\, 3900 S Las Vegas Blvd\, Las Vegas\, NV\, 89119\, United States
CATEGORIES:Alumni,Bachelor of Science in Pharmaceutical and Medical Sciences,Doctor of Pharmacy,Faculty,PhD in Pharmaceutical Sciences and Molecular Medicine
ATTACH;FMTTYPE=image/png:https://wpcdn.web.wsu.edu/wp-spokane/uploads/sites/3060/2024/09/IMG_5955_16x9-e1760028271212.png
ORGANIZER;CN="College%20of%20Pharmacy%20and%20Pharmaceutical%20Sciences":MAILTO:pharmacy.gocougs@wsu.edu
END:VEVENT
END:VCALENDAR