BEGIN:VCALENDAR
VERSION:2.0
PRODID:-//Pharmacy and Pharmaceutical Sciences - ECPv6.1.3//NONSGML v1.0//EN
CALSCALE:GREGORIAN
METHOD:PUBLISH
X-ORIGINAL-URL:https://pharmacy.wsu.edu
X-WR-CALDESC:Events for Pharmacy and Pharmaceutical Sciences
REFRESH-INTERVAL;VALUE=DURATION:PT1H
X-Robots-Tag:noindex
X-PUBLISHED-TTL:PT1H
BEGIN:VTIMEZONE
TZID:America/Los_Angeles
BEGIN:DAYLIGHT
TZOFFSETFROM:-0800
TZOFFSETTO:-0700
TZNAME:PDT
DTSTART:20250309T100000
END:DAYLIGHT
BEGIN:STANDARD
TZOFFSETFROM:-0700
TZOFFSETTO:-0800
TZNAME:PST
DTSTART:20251102T090000
END:STANDARD
END:VTIMEZONE
BEGIN:VEVENT
DTSTART;TZID=America/Los_Angeles:20250508T180000
DTEND;TZID=America/Los_Angeles:20250508T200000
DTSTAMP:20260424T051743
CREATED:20250225T174706Z
LAST-MODIFIED:20250225T174706Z
UID:10000559-1746727200-1746734400@pharmacy.wsu.edu
SUMMARY:Seattle Area CougaRx Nation Alumni & Future Students Social
DESCRIPTION:Calling all Seattle-area Cougs and future students! Join us for a CougaRx Nation Alumni and Friends Social  in Bellevue\, Washington at Cascadia Pizza Restaurant and Brewery. Mingle and network with fellow Cougar pharmacists and share your experiences with future student pharmacists. Complimentary buffet and beverages will be provided. \nKnow someone who would make the perfect future Cougar pharmacist? Invite them to join us as well. All current and future students\, alumni\, family and friends are welcome! \nRSVP
URL:https://pharmacy.wsu.edu/calendar/seattle-area-cougarx-nation-alumni-future-students-social/
LOCATION:Cascadia Pizza Restaurant and Brewery\, 1820 130th Ave NE Ste 2\, Bellevue\, WA\, 98005\, United States
CATEGORIES:Alumni,Bachelor of Science in Pharmaceutical and Medical Sciences,Doctor of Pharmacy,Faculty,PhD in Pharmaceutical Sciences and Molecular Medicine,Prospective Students
ATTACH;FMTTYPE=image/jpeg:https://wpcdn.web.wsu.edu/wp-spokane/uploads/sites/3060/2023/03/IMG_0125-scaled-e1680128989995.jpg
ORGANIZER;CN="College%20of%20Pharmacy%20and%20Pharmaceutical%20Sciences":MAILTO:pharmacy.gocougs@wsu.edu
END:VEVENT
BEGIN:VEVENT
DTSTART;TZID=America/Los_Angeles:20250531T173000
DTEND;TZID=America/Los_Angeles:20250531T183000
DTSTAMP:20260424T051743
CREATED:20250127T214421Z
LAST-MODIFIED:20250127T231905Z
UID:10000549-1748712600-1748716200@pharmacy.wsu.edu
SUMMARY:Fred Meyer Alumni-Student Mentor Reception at the Northwest Pharmacy Convention
DESCRIPTION:Join us for a Fred Meyer Alumni-Student Mentor Reception at the Northwest Pharmacy Convention. This is a wonderful opportunity to connect and recognize the impact of the alumni-student mentor relationship. All are welcome to join us for the reception regardless of convention attendance. \nComplimentary appetizers and beverages will be provided followed by open reception with other universities. \nRSVP \nWe thank Fred Meyer for sponsoring this event and our mentor program each year.
URL:https://pharmacy.wsu.edu/calendar/fred-meyer-alumni-student-mentor-reception-at-the-northwest-pharmacy-convention-3/
LOCATION:Coeur d’Alene Resort\, Kidd Bay Room\, 115 S. 2nd Street\, Coeur d'Alene\, ID\, United States
CATEGORIES:Alumni,Bachelor of Science in Pharmaceutical and Medical Sciences,Doctor of Pharmacy,Faculty,PhD in Pharmaceutical Sciences and Molecular Medicine,Prospective Students
ATTACH;FMTTYPE=image/jpeg:https://wpcdn.web.wsu.edu/wp-spokane/uploads/sites/3060/2024/05/DSC_0085-scaled.jpg
ORGANIZER;CN="College%20of%20Pharmacy%20and%20Pharmaceutical%20Sciences":MAILTO:pharmacy.gocougs@wsu.edu
END:VEVENT
END:VCALENDAR