BEGIN:VCALENDAR
VERSION:2.0
PRODID:-//Pharmacy and Pharmaceutical Sciences - ECPv6.1.3//NONSGML v1.0//EN
CALSCALE:GREGORIAN
METHOD:PUBLISH
X-WR-CALNAME:Pharmacy and Pharmaceutical Sciences
X-ORIGINAL-URL:https://pharmacy.wsu.edu
X-WR-CALDESC:Events for Pharmacy and Pharmaceutical Sciences
REFRESH-INTERVAL;VALUE=DURATION:PT1H
X-Robots-Tag:noindex
X-PUBLISHED-TTL:PT1H
BEGIN:VTIMEZONE
TZID:America/Los_Angeles
BEGIN:DAYLIGHT
TZOFFSETFROM:-0800
TZOFFSETTO:-0700
TZNAME:PDT
DTSTART:20250309T100000
END:DAYLIGHT
BEGIN:STANDARD
TZOFFSETFROM:-0700
TZOFFSETTO:-0800
TZNAME:PST
DTSTART:20251102T090000
END:STANDARD
END:VTIMEZONE
BEGIN:VEVENT
DTSTART;TZID=America/Los_Angeles:20250405T170000
DTEND;TZID=America/Los_Angeles:20250405T190000
DTSTAMP:20260424T074902
CREATED:20250115T235658Z
LAST-MODIFIED:20250116T192645Z
UID:10000546-1743872400-1743879600@pharmacy.wsu.edu
SUMMARY:Portland CougaRx Alumni and Friends Social at the ASPET Annual Meeting
DESCRIPTION:We’re coming to Portland! Join the CougaRx Nation Alumni Community for our reception during the ASPET (American Society for Pharmacology and Experimental Therapeutics) 2025 Annual Meeting. This is a wonderful opportunity to connect and engage with fellow PhD and pharmacy alumni\, students\, faculty\, staff and friends. \nPlease RSVP so we can ensure that enough food and beverages are served.
URL:https://pharmacy.wsu.edu/calendar/portland-cougarx-alumni-and-friends-social-at-the-aspet-annual-meeting/
LOCATION:Portland Wine Bar & Winery Tasting Room\, 526 SW Yamhill Street\, Portland\, OR\, 97215
CATEGORIES:Alumni,Bachelor of Science in Pharmaceutical and Medical Sciences,Doctor of Pharmacy,Faculty,PhD in Pharmaceutical Sciences and Molecular Medicine,Prospective Students,Research
ATTACH;FMTTYPE=image/png:https://wpcdn.web.wsu.edu/wp-spokane/uploads/sites/3060/2025/01/AdobeStock_212173896-Medium.png
ORGANIZER;CN="College%20of%20Pharmacy%20and%20Pharmaceutical%20Sciences":MAILTO:pharmacy.gocougs@wsu.edu
END:VEVENT
BEGIN:VEVENT
DTSTART;VALUE=DATE:20250416
DTEND;VALUE=DATE:20250417
DTSTAMP:20260424T074902
CREATED:20250220T233852Z
LAST-MODIFIED:20250220T235530Z
UID:10000558-1744761600-1744847999@pharmacy.wsu.edu
SUMMARY:Cougs Give 2025
DESCRIPTION:Honor our history of giving back and empower our students during #CougsGive \nFor over 130 years\, the WSU College of Pharmacy and Pharmaceutical Sciences has shaped the future of health care\, producing generations of pharmacists who serve as trusted medication experts\, patient advocates\, and health care leaders. Through challenges and triumphs\, our community has always come together to support the next wave of professionals. On Wednesday\, April 16 we ask you to do the same. \nYou can support #CougsGive by signing up as a Cougar Ambassador\, sharing your own WSU story\, encouraging your peers and fellow Cougs to join in\, sharing posts from the college\, and then giving to the areas that mean the most to you on April 16! Go Cougs!
URL:https://pharmacy.wsu.edu/calendar/cougs-give-2025/
LOCATION:Online
CATEGORIES:Alumni,Faculty
ATTACH;FMTTYPE=image/png:https://wpcdn.web.wsu.edu/wp-spokane/uploads/sites/3060/2022/03/cougsgive_horizontal_RGB.png
ORGANIZER;CN="College%20of%20Pharmacy%20and%20Pharmaceutical%20Sciences":MAILTO:pharmacy.gocougs@wsu.edu
END:VEVENT
BEGIN:VEVENT
DTSTART;TZID=America/Los_Angeles:20250416T170000
DTEND;TZID=America/Los_Angeles:20250416T190000
DTSTAMP:20260424T074902
CREATED:20241209T161451Z
LAST-MODIFIED:20260127T225323Z
UID:10000538-1744822800-1744830000@pharmacy.wsu.edu
SUMMARY:Celebrating Excellence & Generosity – Spokane
DESCRIPTION:Join us for a night to celebrate you! Our annual donor appreciation and college awards event is an opportunity to meet the students your support has impacted. During the evening we recognize distinguished donors\, students\, faculty\, and the many supporters who help make the success of the college possible. All Coug pharmacists\, family and friends are welcome! \nFeaturing complimentary hors d’oeuvres\, beverages\, and a silent auction. \nRSVP \nWe’re excited to share that this year’s Spokane event is the same day as #CougsGive\, an annual one-day fundraising event dedicated to expanding\, sharing\, and celebrating donor impact at WSU. \nQuestions? Contact pharmacy.gocougs@wsu.edu or 509-358-765
URL:https://pharmacy.wsu.edu/calendar/celebrating-excellence-generosity-spokane-4/
LOCATION:Spokane Center for Clinical Research and Simulation (SCCRS)\, 412 E. Spokane Falls Blvd.\, Spokane\, WA\, 99202\, United States
CATEGORIES:Alumni,Doctor of Pharmacy,Faculty,PhD in Pharmaceutical Sciences and Molecular Medicine,Prospective Students,Students
ATTACH;FMTTYPE=image/png:https://wpcdn.web.wsu.edu/wp-spokane/uploads/sites/3060/2022/03/celebrating-generosity-2022-04.png
ORGANIZER;CN="College%20of%20Pharmacy%20and%20Pharmaceutical%20Sciences":MAILTO:pharmacy.gocougs@wsu.edu
END:VEVENT
BEGIN:VEVENT
DTSTART;TZID=America/Los_Angeles:20250417T170000
DTEND;TZID=America/Los_Angeles:20250417T190000
DTSTAMP:20260424T074902
CREATED:20241209T161453Z
LAST-MODIFIED:20250124T000440Z
UID:10000539-1744909200-1744916400@pharmacy.wsu.edu
SUMMARY:Celebrating Excellence & Generosity – Yakima
DESCRIPTION:Join us for a night to celebrate you! Our annual donor appreciation and college awards event is an opportunity to meet the students your support has impacted. During the evening we recognize distinguished donors\, students\, faculty\, and the many supporters who help make the success of the college possible. All Coug pharmacists\, family and friends are welcome! \nFeaturing complimentary hors d’oeuvres\, beverages\, and a silent auction. \nRSVP \nQuestions? Contact pharmacy.gocougs@wsu.edu or 509-358-765
URL:https://pharmacy.wsu.edu/calendar/celebrating-excellence-generosity-yakima-4/
LOCATION:MultiCare Learning Center and Delta Dental Equity Hall (DDEH 256 Event Space)\, 3008 Inspiration Dr\, Yakima\, WA\, 98901
CATEGORIES:Alumni,Doctor of Pharmacy,Faculty,PhD in Pharmaceutical Sciences and Molecular Medicine,Prospective Students,Students
ATTACH;FMTTYPE=image/png:https://wpcdn.web.wsu.edu/wp-spokane/uploads/sites/3060/2022/03/celebrating-generosity-2022-04.png
ORGANIZER;CN="College%20of%20Pharmacy%20and%20Pharmaceutical%20Sciences":MAILTO:pharmacy.gocougs@wsu.edu
END:VEVENT
BEGIN:VEVENT
DTSTART;TZID=America/Los_Angeles:20250422T121000
DTEND;TZID=America/Los_Angeles:20250422T130000
DTSTAMP:20260424T074902
CREATED:20250313T201736Z
LAST-MODIFIED:20250314T203919Z
UID:10000564-1745323800-1745326800@pharmacy.wsu.edu
SUMMARY:Allen I. White Lecture
DESCRIPTION:Advancing Knowledge of Drug Transport Proteins to Develop Improved Therapeutics and Enhance Precision Medicine\nPresented by Kim Brouwer\, PharmD\, PhD\n \nJoin us as Dr. Kim Brouwer\, a Kenan Distinguished Professor at the University of North Carolina at Chapel Hill\, presents her groundbreaking research on membrane transport proteins and their role in drug absorption\, distribution\, and excretion. Her work explores how genetics\, disease\, and external factors influence transporter function\, leading to variability in drug response and patient outcomes. By integrating innovative in vitro and in vivo models with mathematical simulations\, Dr. Brouwer’s team is shaping the future of precision medicine and therapeutic dose optimization. \nA renowned clinical pharmacologist\, Dr. Brouwer has led NIH-funded research since 1991\, focusing on hepatobiliary drug disposition and drug-transporter interactions. She has mentored over 100 clinical pharmacologists\, authored 270+ publications\, and co-invented B-CLEAR® technology. As a global leader in transporter science\, she co-chairs the International Transporter Consortium and has received numerous prestigious awards\, including the 2024 ASCPT Rawls-Palmer Progress in Medicine Award. \nJoin us for this opportunity to learn from one of the field’s most influential researchers as she shares insights that have transformed drug development and patient care. \nRSVP
URL:https://pharmacy.wsu.edu/calendar/allen-i-white-lecture-7/
LOCATION:SPBS 101 – Walgreens Auditorium\, Spokane\, WA\, United States
CATEGORIES:Alumni,Faculty,Prospective Students,Students
END:VEVENT
END:VCALENDAR