BEGIN:VCALENDAR
VERSION:2.0
PRODID:-//Pharmacy and Pharmaceutical Sciences - ECPv6.1.3//NONSGML v1.0//EN
CALSCALE:GREGORIAN
METHOD:PUBLISH
X-ORIGINAL-URL:https://pharmacy.wsu.edu
X-WR-CALDESC:Events for Pharmacy and Pharmaceutical Sciences
REFRESH-INTERVAL;VALUE=DURATION:PT1H
X-Robots-Tag:noindex
X-PUBLISHED-TTL:PT1H
BEGIN:VTIMEZONE
TZID:America/Los_Angeles
BEGIN:DAYLIGHT
TZOFFSETFROM:-0800
TZOFFSETTO:-0700
TZNAME:PDT
DTSTART:20240310T100000
END:DAYLIGHT
BEGIN:STANDARD
TZOFFSETFROM:-0700
TZOFFSETTO:-0800
TZNAME:PST
DTSTART:20241103T090000
END:STANDARD
END:VTIMEZONE
BEGIN:VEVENT
DTSTART;TZID=America/Los_Angeles:20241015T121000
DTEND;TZID=America/Los_Angeles:20241015T121000
DTSTAMP:20260424T202830
CREATED:20240830T164831Z
LAST-MODIFIED:20240927T204731Z
UID:10000520-1728994200-1728994200@pharmacy.wsu.edu
SUMMARY:Career Seminar Series: Coordinated Chaos - Education in the Emergency Department
DESCRIPTION:Maggie Godsey is an Emergency Medicine Pharmacist at EvergreenHealth in Kirkland\, Washington. She is a Coug through and through. She earned her bachelor’s degree in biology from Washington State University in 2017 and went on to receive her Doctor of Pharmacy from the same institution in 2021. Godsey is dedicated to providing exceptional emergency care through her collaborative work with nurses\, physicians\, and social workers\, ensuring the highest standards of patient care. Outside of her professional commitments\, she enjoys traveling to new destinations\, spending quality time with her family\, and playing with her two dogs\, Minnie and Bodhi. \n\nSpokane: PBS 101\nYakima: CSC 101\n\nStudents\, please RSVP so we have an accurate count for lunch numbers. \nThank you to STCU and Walgreens for sponsoring the Career Seminar Series. \n          
URL:https://pharmacy.wsu.edu/calendar/career-seminar-series-coordinated-chaos-education-in-the-emergency-department/
LOCATION:SPBS 101 – Walgreens Auditorium\, Spokane\, WA\, United States
CATEGORIES:Alumni,Career Seminar Series,Doctor of Pharmacy,Prospective Students
ORGANIZER;CN="College%20of%20Pharmacy%20and%20Pharmaceutical%20Sciences":MAILTO:pharmacy.gocougs@wsu.edu
END:VEVENT
BEGIN:VEVENT
DTSTART;TZID=America/Los_Angeles:20241019T103000
DTEND;TZID=America/Los_Angeles:20241019T123000
DTSTAMP:20260424T202830
CREATED:20240718T183053Z
LAST-MODIFIED:20241008T221027Z
UID:10000497-1729333800-1729341000@pharmacy.wsu.edu
SUMMARY:Pharmacy Homecoming Tailgate
DESCRIPTION:Celebrate with other Cougar pharmacists and members of the WSU Health Sciences community at our tailgate before cheering on the Cougs as they take on the University of Hawai’i. Go Cougs! \nThe first 50 attendees will also receive a free 2024 College of Pharmacy and Pharmaceutical Sciences Homecoming Tailgate t-shirt courtesy of QFC! \nRSVP \n*Game time is 12:30 p.m. according to the WSU Cougar Football Schedule. \nNeed tickets to the big game?\nWSU Spokane has reserved a ticket block! Purchase through this link for your chance to sit with students\, alumni\, and friends of the WSU health sciences community.
URL:https://pharmacy.wsu.edu/calendar/homecoming-tailgate-2/
LOCATION:Wegner Hall parking lot\, 1505 NE Stadium Way\, Pullman\, WA\, 99164\, United States
CATEGORIES:Alumni,Faculty,Prospective Students,Students
ATTACH;FMTTYPE=image/jpeg:https://wpcdn.web.wsu.edu/wp-spokane/uploads/sites/3060/2024/07/DSC_6849-scaled-e1724429676405.jpg
ORGANIZER;CN="College%20of%20Pharmacy%20and%20Pharmaceutical%20Sciences":MAILTO:pharmacy.gocougs@wsu.edu
END:VEVENT
END:VCALENDAR