BEGIN:VCALENDAR
VERSION:2.0
PRODID:-//Pharmacy and Pharmaceutical Sciences - ECPv6.1.3//NONSGML v1.0//EN
CALSCALE:GREGORIAN
METHOD:PUBLISH
X-WR-CALNAME:Pharmacy and Pharmaceutical Sciences
X-ORIGINAL-URL:https://pharmacy.wsu.edu
X-WR-CALDESC:Events for Pharmacy and Pharmaceutical Sciences
REFRESH-INTERVAL;VALUE=DURATION:PT1H
X-Robots-Tag:noindex
X-PUBLISHED-TTL:PT1H
BEGIN:VTIMEZONE
TZID:America/Los_Angeles
BEGIN:DAYLIGHT
TZOFFSETFROM:-0800
TZOFFSETTO:-0700
TZNAME:PDT
DTSTART:20240310T100000
END:DAYLIGHT
BEGIN:STANDARD
TZOFFSETFROM:-0700
TZOFFSETTO:-0800
TZNAME:PST
DTSTART:20241103T090000
END:STANDARD
END:VTIMEZONE
BEGIN:VEVENT
DTSTART;TZID=America/Los_Angeles:20240411T121000
DTEND;TZID=America/Los_Angeles:20240411T130000
DTSTAMP:20260425T071718
CREATED:20240103T214334Z
LAST-MODIFIED:20240311T234341Z
UID:10000473-1712837400-1712840400@pharmacy.wsu.edu
SUMMARY:Allen I. White Lecture
DESCRIPTION:The invisible\, powerful\, and sometimes surprising principles of behavioral economics that can impact pharmacy\nwith Jeff Cain\, EdD\, MS\n \nDr. Cain is actively involved in social and behavioral sciences research with numerous publications and presentations pertaining to digital media\, well-being\, and innovative teaching. He was a 2013 AACP Academic Leadership Fellow and in 2017 was named an AACP Distinguished Teaching Scholar. He won the Michael J. Lach Faculty Award for Innovative Teaching in 2013 and 2019. In 2021\, Dr. Cain was a recipient of the University of Kentucky Provost’s Award for Outstanding Teaching and has been recognized by students for numerous teaching and faculty member of the year awards. Dr. Cain currently serves as associate editor of Currents in Pharmacy Teaching and Learning\, was the founding editor for Pulses scholarly blog\, and is co-host of the pharmacy education podcast\, Pharmacy Fika. \nDr. Cain is an associate professor and Vice-Chair for Education in the Department of Pharmacy Practice & Science at the University of Kentucky College of Pharmacy. He also serves as Director of the Office of Teaching Innovation & Scholarship and teaches a Pharmacy Management course and a Creative Thinking for Innovation elective and mentors students in the Community Service Learning and Scholarship courses. He also directs the University of Kentucky Teaching Certificate Program and mentors pharmacy students and residents through an academia rotation. \nA reception in the Pharmaceutical and Biomedical Sciences Building (PBS) Lobby will immediately follow the lecture. \nRSVP
URL:https://pharmacy.wsu.edu/calendar/allen-i-white-lecture-6/
LOCATION:SPBS 101 – Walgreens Auditorium\, Spokane\, WA\, United States
CATEGORIES:Alumni,Faculty,Prospective Students,Students
END:VEVENT
BEGIN:VEVENT
DTSTART;VALUE=DATE:20240417
DTEND;VALUE=DATE:20240418
DTSTAMP:20260425T071718
CREATED:20240318T230759Z
LAST-MODIFIED:20240318T230759Z
UID:10000504-1713312000-1713398399@pharmacy.wsu.edu
SUMMARY:Cougs Give 2024
DESCRIPTION:Do you remember the first time you faced a challenge\, and didn’t know where to start? Every pharmacist’s journey begins with someone who supported them through their journey\, whether it was through mentorship\, financial help\, or a simple word of encouragement. When you’re part of the Cougar family\, you’re connected to a worldwide network who want to see each other succeed and are willing to help along the way. \nEvery year for #CougsGive tens of thousands of Cougs come together to celebrate the impact of donor support at Washington State University and give to the scholarships\, programs\, and experiences that set WSU apart. This year we want to give more student pharmacists the opportunity to present at professional conferences\, work at underserved rotation sites\, or simply attend their classes without having to worry about their next bill. Together\, we can shape a legacy of excellence in pharmacy and empower future health care heroes to reach new heights. \nYou can support #CougsGive by signing up as a Cougar Ambassador\, sharing your own WSU story\, encouraging your peers and fellow Cougs to join in\, and then giving to the areas that mean the most to you on April 17! Go Cougs! \nLearn More
URL:https://pharmacy.wsu.edu/calendar/cougs-give-2024/
LOCATION:Online
CATEGORIES:Alumni,Faculty
ATTACH;FMTTYPE=image/png:https://wpcdn.web.wsu.edu/wp-spokane/uploads/sites/3060/2022/03/cougsgive_horizontal_RGB.png
ORGANIZER;CN="College%20of%20Pharmacy%20and%20Pharmaceutical%20Sciences":MAILTO:pharmacy.gocougs@wsu.edu
END:VEVENT
BEGIN:VEVENT
DTSTART;TZID=America/Los_Angeles:20240417T170000
DTEND;TZID=America/Los_Angeles:20240417T190000
DTSTAMP:20260425T071718
CREATED:20240206T182641Z
LAST-MODIFIED:20240220T233302Z
UID:10000495-1713373200-1713380400@pharmacy.wsu.edu
SUMMARY:Celebrating Excellence & Generosity – Spokane
DESCRIPTION:Join us for a night to celebrate you! Our annual donor appreciation and college awards event is an opportunity to meet the students your support has impacted. During the evening we recognize distinguished donors\, students\, faculty\, and the many supporters who help make the success of the college possible. All Coug pharmacists\, family and friends are welcome! \nFeaturing complimentary hors d’oeuvres\, beverages\, and a silent auction. \nRSVP \nWe’re excited to announce that this year’s Spokane event is the same day as #CougsGive\, an annual one-day fundraising event dedicated to expanding\, sharing\, and celebrating donor impact at WSU. \nQuestions? Contact pharmacy.gocougs@wsu.edu or 509-358-765
URL:https://pharmacy.wsu.edu/calendar/celebrating-excellence-generosity-spokane-3/
LOCATION:Spokane Center for Clinical Research and Simulation (SCCRS)\, 412 E. Spokane Falls Blvd.\, Spokane\, WA\, 99202\, United States
CATEGORIES:Alumni,Doctor of Pharmacy,Faculty,PhD in Pharmaceutical Sciences and Molecular Medicine,Prospective Students,Students
ATTACH;FMTTYPE=image/png:https://wpcdn.web.wsu.edu/wp-spokane/uploads/sites/3060/2022/03/celebrating-generosity-2022-04.png
ORGANIZER;CN="College%20of%20Pharmacy%20and%20Pharmaceutical%20Sciences":MAILTO:pharmacy.gocougs@wsu.edu
END:VEVENT
BEGIN:VEVENT
DTSTART;TZID=America/Los_Angeles:20240419T170000
DTEND;TZID=America/Los_Angeles:20240419T190000
DTSTAMP:20260425T071718
CREATED:20240206T164526Z
LAST-MODIFIED:20240220T233236Z
UID:10000491-1713546000-1713553200@pharmacy.wsu.edu
SUMMARY:Celebrating Excellence & Generosity – Yakima
DESCRIPTION:Join us for a night to celebrate you! Our annual donor appreciation and college awards event is an opportunity to meet the students your support has impacted. During the evening we recognize distinguished donors\, students\, faculty\, and the many supporters who help make the success of the college possible. All Coug pharmacists\, family and friends are welcome! \nFeaturing complimentary hors d’oeuvres\, beverages\, and a silent auction. \nRSVP \nQuestions? Contact pharmacy.gocougs@wsu.edu or 509-358-765
URL:https://pharmacy.wsu.edu/calendar/celebrating-excellence-generosity-yakima-3/
LOCATION:MultiCare Learning Center and Delta Dental Equity Hall Foyer\, 3008 Inspiration Drive\, Yakima\, WA\, 98901\, United States
CATEGORIES:Alumni,Doctor of Pharmacy,Faculty,PhD in Pharmaceutical Sciences and Molecular Medicine,Prospective Students,Students
ATTACH;FMTTYPE=image/png:https://wpcdn.web.wsu.edu/wp-spokane/uploads/sites/3060/2022/03/celebrating-generosity-2022-04.png
ORGANIZER;CN="College%20of%20Pharmacy%20and%20Pharmaceutical%20Sciences":MAILTO:pharmacy.gocougs@wsu.edu
END:VEVENT
END:VCALENDAR