BEGIN:VCALENDAR
VERSION:2.0
PRODID:-//Pharmacy and Pharmaceutical Sciences - ECPv6.1.3//NONSGML v1.0//EN
CALSCALE:GREGORIAN
METHOD:PUBLISH
X-ORIGINAL-URL:https://pharmacy.wsu.edu
X-WR-CALDESC:Events for Pharmacy and Pharmaceutical Sciences
REFRESH-INTERVAL;VALUE=DURATION:PT1H
X-Robots-Tag:noindex
X-PUBLISHED-TTL:PT1H
BEGIN:VTIMEZONE
TZID:America/Los_Angeles
BEGIN:DAYLIGHT
TZOFFSETFROM:-0800
TZOFFSETTO:-0700
TZNAME:PDT
DTSTART:20240310T100000
END:DAYLIGHT
BEGIN:STANDARD
TZOFFSETFROM:-0700
TZOFFSETTO:-0800
TZNAME:PST
DTSTART:20241103T090000
END:STANDARD
END:VTIMEZONE
BEGIN:VEVENT
DTSTART;TZID=America/Los_Angeles:20240324T170000
DTEND;TZID=America/Los_Angeles:20240324T190000
DTSTAMP:20260425T083640
CREATED:20231221T190437Z
LAST-MODIFIED:20240220T185146Z
UID:10000474-1711299600-1711306800@pharmacy.wsu.edu
SUMMARY:CougaRx Nation Alumni & Friends Reception at APhA
DESCRIPTION:  \nJoin us for a CougaRx Nation Alumni and Friends Reception during the 2024 American Pharmacists Association (APhA) Annual Meeting & Exposition. This is a wonderful opportunity to connect and engage with Cougar pharmacists\, students\, faculty\, staff and friends of the college. \nRSVP
URL:https://pharmacy.wsu.edu/calendar/cougarx-nation-alumni-friends-reception-at-apha/
LOCATION:Hilton Orlando Lobby Bar (Bar Tela)\, 6001 Destination Parkway\, Orlando\, FL\, 32819\, United States
CATEGORIES:Alumni,Faculty,Prospective Students,Students
ATTACH;FMTTYPE=image/jpeg:https://wpcdn.web.wsu.edu/wp-spokane/uploads/sites/3060/2022/03/IMG_0346_APhA19_Stephen-Fields-scaled-e1646931137269.jpg
END:VEVENT
END:VCALENDAR