BEGIN:VCALENDAR
VERSION:2.0
PRODID:-//Pharmacy and Pharmaceutical Sciences - ECPv6.1.3//NONSGML v1.0//EN
CALSCALE:GREGORIAN
METHOD:PUBLISH
X-WR-CALNAME:Pharmacy and Pharmaceutical Sciences
X-ORIGINAL-URL:https://pharmacy.wsu.edu
X-WR-CALDESC:Events for Pharmacy and Pharmaceutical Sciences
REFRESH-INTERVAL;VALUE=DURATION:PT1H
X-Robots-Tag:noindex
X-PUBLISHED-TTL:PT1H
BEGIN:VTIMEZONE
TZID:America/Los_Angeles
BEGIN:DAYLIGHT
TZOFFSETFROM:-0800
TZOFFSETTO:-0700
TZNAME:PDT
DTSTART:20260308T100000
END:DAYLIGHT
BEGIN:STANDARD
TZOFFSETFROM:-0700
TZOFFSETTO:-0800
TZNAME:PST
DTSTART:20261101T090000
END:STANDARD
END:VTIMEZONE
BEGIN:VEVENT
DTSTART;TZID=America/Los_Angeles:20260925T173000
DTEND;TZID=America/Los_Angeles:20260925T213000
DTSTAMP:20260423T015854
CREATED:20260422T165148Z
LAST-MODIFIED:20260422T235757Z
UID:10001011-1790357400-1790371800@pharmacy.wsu.edu
SUMMARY:Crimson Gala
DESCRIPTION:An evening of fun and Coug spirit to celebrate and honor our amazing pharmacy and pharmaceutical sciences community and the impact of all that you do. \nAt our flagship fundraising event\, there are opportunities to meet current students and catch up with alumni\, a live auction\, and the presentation of preceptor and alumni awards. All students\, alums\, family and friends of the college are invited! \nLearn More and Register
URL:https://pharmacy.wsu.edu/calendar/crimson-gala-5/
LOCATION:Spokane Tribe Resort and Casino – Spokane Live Room\, 14300 US-2\, Airway Heights\, WA\, 99001\, United States
CATEGORIES:Alumni,Faculty,Students
ATTACH;FMTTYPE=image/png:https://wpcdn.web.wsu.edu/wp-spokane/uploads/sites/3060/2021/07/crimson-gala_crimson-1.png
ORGANIZER;CN="College%20of%20Pharmacy%20and%20Pharmaceutical%20Sciences":MAILTO:pharmacy.gocougs@wsu.edu
END:VEVENT
BEGIN:VEVENT
DTSTART;VALUE=DATE:20260926
DTEND;VALUE=DATE:20260927
DTSTAMP:20260423T015854
CREATED:20260422T165158Z
LAST-MODIFIED:20260422T165158Z
UID:10001012-1790380800-1790467199@pharmacy.wsu.edu
SUMMARY:Pharmacy Tailgate
DESCRIPTION:Two hours before kick-off*\n  \nCelebrate with the pharmacy\, pharmaceutical sciences\, and WSU Health Sciences community before cheering on the Cougs as they take on the University of Arizona. Go Cougs! \nThe first 50 attendees will also receive a free 2026 College of Pharmacy and Pharmaceutical Sciences Tailgate t-shirt! \n  \nWhile our tailgate is free to attend\, please RSVP through our Pharmacy Weekend registration portal. Learn more about Pharmacy Weekend \n*Game time is still to be announced according to the WSU Cougar Football Schedule. \n 
URL:https://pharmacy.wsu.edu/calendar/pharmacy-tailgate-2/
LOCATION:Wegner Hall parking lot\, 1505 NE Stadium Way\, Pullman\, WA\, 99164\, United States
CATEGORIES:Alumni,Faculty,Prospective Students,Students
ATTACH;FMTTYPE=image/jpeg:https://wpcdn.web.wsu.edu/wp-spokane/uploads/sites/3060/2026/04/IMG_4823-scaled-e1776876514898.jpeg
ORGANIZER;CN="College%20of%20Pharmacy%20and%20Pharmaceutical%20Sciences":MAILTO:pharmacy.gocougs@wsu.edu
END:VEVENT
END:VCALENDAR