BEGIN:VCALENDAR
VERSION:2.0
PRODID:-//Pharmacy and Pharmaceutical Sciences - ECPv6.1.3//NONSGML v1.0//EN
CALSCALE:GREGORIAN
METHOD:PUBLISH
X-ORIGINAL-URL:https://pharmacy.wsu.edu
X-WR-CALDESC:Events for Pharmacy and Pharmaceutical Sciences
REFRESH-INTERVAL;VALUE=DURATION:PT1H
X-Robots-Tag:noindex
X-PUBLISHED-TTL:PT1H
BEGIN:VTIMEZONE
TZID:America/Los_Angeles
BEGIN:DAYLIGHT
TZOFFSETFROM:-0800
TZOFFSETTO:-0700
TZNAME:PDT
DTSTART:20250309T100000
END:DAYLIGHT
BEGIN:STANDARD
TZOFFSETFROM:-0700
TZOFFSETTO:-0800
TZNAME:PST
DTSTART:20251102T090000
END:STANDARD
END:VTIMEZONE
BEGIN:VEVENT
DTSTART;TZID=America/Los_Angeles:20251120T121000
DTEND;TZID=America/Los_Angeles:20251120T121000
DTSTAMP:20260423T192744
CREATED:20251016T233917Z
LAST-MODIFIED:20251103T172728Z
UID:10000632-1763640600-1763640600@pharmacy.wsu.edu
SUMMARY:National Rural Health Day Panel - Preparing for Change
DESCRIPTION:In celebration of National Rural Health Day\, the College of Pharmacy and Pharmaceutical Sciences will host a seminar discussing the challenges facing rural health care and the role pharmacists play in access to care. Panelists will share their experiences of working in rural settings at critical access hospitals\, ambulatory care\, and telepharmacy networks as well as the legislative process to support these areas of need. \n\nCori Farrar\, Director of Pharmacy at Newport Hospital & Health Services\nJames Hendrix-Ward\, Pharmacy Operations Manager at NEW Health\nJustin Peters\, CFO at Newport Hospital & Health Services\nWashington State Senator Marcus Riccelli\nDesiree Sweeney\, CEO of New Health\n\nRSVP \n\nThank you to Albertsons for sponsoring this event.
URL:https://pharmacy.wsu.edu/calendar/national-rural-health-day-panel-preparing-for-change/
LOCATION:SPBS 101 – Walgreens Auditorium\, Spokane\, WA\, United States
CATEGORIES:Alumni,Faculty,Students
ATTACH;FMTTYPE=image/jpeg:https://wpcdn.web.wsu.edu/wp-spokane/uploads/sites/3060/2023/11/Palouse-6-Copy.jpg
ORGANIZER;CN="College%20of%20Pharmacy%20and%20Pharmaceutical%20Sciences":MAILTO:pharmacy.gocougs@wsu.edu
END:VEVENT
END:VCALENDAR