BEGIN:VCALENDAR
VERSION:2.0
PRODID:-//Pharmacy and Pharmaceutical Sciences - ECPv6.1.3//NONSGML v1.0//EN
CALSCALE:GREGORIAN
METHOD:PUBLISH
X-ORIGINAL-URL:https://pharmacy.wsu.edu
X-WR-CALDESC:Events for Pharmacy and Pharmaceutical Sciences
REFRESH-INTERVAL;VALUE=DURATION:PT1H
X-Robots-Tag:noindex
X-PUBLISHED-TTL:PT1H
BEGIN:VTIMEZONE
TZID:America/Los_Angeles
BEGIN:DAYLIGHT
TZOFFSETFROM:-0800
TZOFFSETTO:-0700
TZNAME:PDT
DTSTART:20250309T100000
END:DAYLIGHT
BEGIN:STANDARD
TZOFFSETFROM:-0700
TZOFFSETTO:-0800
TZNAME:PST
DTSTART:20251102T090000
END:STANDARD
END:VTIMEZONE
BEGIN:VEVENT
DTSTART;TZID=America/Los_Angeles:20251105T080000
DTEND;TZID=America/Los_Angeles:20251105T090000
DTSTAMP:20260423T192744
CREATED:20251014T235238Z
LAST-MODIFIED:20251014T235238Z
UID:10000634-1762329600-1762333200@pharmacy.wsu.edu
SUMMARY:Wake Up With Research - Bridging Gaps in Pediatric Health: From Neurodevelopment to Immune Response
DESCRIPTION:Join us for November’s Wake Up With Research seminar\, featuring WSU researchers and collaborators from Seattle Children’s Research Institute presenting innovative approaches to pediatric health. \nLearn more and register \nPresentations include:\nConnecting childhood obesity to asthma: Investigating the impact of leptin on airway epithelial cell differentiation and viral immune response\n\nErica Crespi\, PhD\, and Kourtnie Whitfield\, PhD\, WSU School of Biological Sciences\nJason Debley\, MD\, MPH\, and Weston Powell\, MD\, PhD\, Center for Respiratory Biology and Therapeutics\n\nDisparities in neurodevelopmental follow-up of high-risk infants in rural communities\n\nEka\, Burduli\, PhD\, Dept. of Community and Behavioral Health\, WSU Elson S. Floyd College of Medicine\nBrent Collett\, SCRI\, Center for Child Health\, Behavior\, and Development\n\nResearchers at Washington State University are discovering new solutions to some of today’s most challenging health issues\, including addiction\, autism\, cancer\, chronic illness\, rural health\, neurological disease\, sleep\, and much more. WSU Spokane’s Wake Up With Research series gives you a chance to hear directly from experts and scientists as they share their discoveries that help untangle complex problems to enrich our health and quality of life.
URL:https://pharmacy.wsu.edu/calendar/wake-up-with-research-bridging-gaps-in-pediatric-health-from-neurodevelopment-to-immune-response/
LOCATION:Virtual
CATEGORIES:Alumni,Faculty,Health Chats,Research
ATTACH;FMTTYPE=image/png:https://wpcdn.web.wsu.edu/wp-spokane/uploads/sites/3060/2025/10/WakeUpWithResearch-wordmarkopts.png
END:VEVENT
END:VCALENDAR