BEGIN:VCALENDAR
VERSION:2.0
PRODID:-//Pharmacy and Pharmaceutical Sciences - ECPv6.1.3//NONSGML v1.0//EN
CALSCALE:GREGORIAN
METHOD:PUBLISH
X-ORIGINAL-URL:https://pharmacy.wsu.edu
X-WR-CALDESC:Events for Pharmacy and Pharmaceutical Sciences
REFRESH-INTERVAL;VALUE=DURATION:PT1H
X-Robots-Tag:noindex
X-PUBLISHED-TTL:PT1H
BEGIN:VTIMEZONE
TZID:America/Los_Angeles
BEGIN:DAYLIGHT
TZOFFSETFROM:-0800
TZOFFSETTO:-0700
TZNAME:PDT
DTSTART:20250309T100000
END:DAYLIGHT
BEGIN:STANDARD
TZOFFSETFROM:-0700
TZOFFSETTO:-0800
TZNAME:PST
DTSTART:20251102T090000
END:STANDARD
END:VTIMEZONE
BEGIN:VEVENT
DTSTART;TZID=America/Los_Angeles:20250325T120000
DTEND;TZID=America/Los_Angeles:20250325T130000
DTSTAMP:20260424T115224
CREATED:20250207T234248Z
LAST-MODIFIED:20250207T234248Z
UID:10000553-1742904000-1742907600@pharmacy.wsu.edu
SUMMARY:Continuing Education: Combatting Prescription Drug Abuse: Insights from the Drug Enforcement Administration
DESCRIPTION:Get ready to learn about the widespread misuse of both prescription and non-prescription opioids. \nJoin Heather McMurry from the Seattle Drug Enforcement Administration\, as she provides an overview of the prescription drug epidemic and practical information for students and practitioners about responsibly prescribing and dispensing prescription drugs. You’ll walk away more informed about the fentanyl crisis\, diversion\, and how to spot red flags. \nAvailable online via Zoom webinar or in person on the WSU Spokane Campus. \nLearn More or Register
URL:https://pharmacy.wsu.edu/calendar/continuing-education-combatting-prescription-drug-abuse-insights-from-the-drug-enforcement-administration/
LOCATION:WSU Spokane Nursing Building (SNRS) 105\, 103 E Spokane Falls Blvd\, Spokane\, WA
CATEGORIES:Alumni,Doctor of Pharmacy,Faculty
END:VEVENT
END:VCALENDAR