BEGIN:VCALENDAR
VERSION:2.0
PRODID:-//Pharmacy and Pharmaceutical Sciences - ECPv6.1.3//NONSGML v1.0//EN
CALSCALE:GREGORIAN
METHOD:PUBLISH
X-ORIGINAL-URL:https://pharmacy.wsu.edu
X-WR-CALDESC:Events for Pharmacy and Pharmaceutical Sciences
REFRESH-INTERVAL;VALUE=DURATION:PT1H
X-Robots-Tag:noindex
X-PUBLISHED-TTL:PT1H
BEGIN:VTIMEZONE
TZID:America/Chicago
BEGIN:DAYLIGHT
TZOFFSETFROM:-0600
TZOFFSETTO:-0500
TZNAME:CDT
DTSTART:20240310T080000
END:DAYLIGHT
BEGIN:STANDARD
TZOFFSETFROM:-0500
TZOFFSETTO:-0600
TZNAME:CST
DTSTART:20241103T070000
END:STANDARD
END:VTIMEZONE
BEGIN:VEVENT
DTSTART;TZID=America/Chicago:20241209T180000
DTEND;TZID=America/Chicago:20241209T200000
DTSTAMP:20260424T174711
CREATED:20240913T000643Z
LAST-MODIFIED:20241209T180021Z
UID:10000525-1733767200-1733774400@pharmacy.wsu.edu
SUMMARY:2024 ASHP Midyear - CougaRx Nation Alumni & Friends Reception - New Orleans\, LA
DESCRIPTION:Join the CougaRx Nation Alumni Community in New Orleans for our reception during the ASHP Midyear Clinical Meeting. This is a wonderful opportunity to connect and engage with Cougar pharmacists\, students\, faculty\, staff and friends. \nRSVP Here! \n\n \n  \nWith special thanks to our presenting sponsor\, Salix Pharmaceuticals Inc.
URL:https://pharmacy.wsu.edu/calendar/2024-ashp-midyear-cougarx-nation-alumni-friends-reception-new-orleans-la/
LOCATION:Ugly Dog Saloon\, 401 Andrew Higgins Dr\, New Orleans\, LA\, 70130\, United States
CATEGORIES:Alumni,Bachelor of Science in Pharmaceutical and Medical Sciences,Doctor of Pharmacy,Faculty,PhD in Pharmaceutical Sciences and Molecular Medicine,Prospective Students
ATTACH;FMTTYPE=image/png:https://wpcdn.web.wsu.edu/wp-spokane/uploads/sites/3060/2024/09/IMG_5955_16x9-e1760028271212.png
ORGANIZER;CN="College%20of%20Pharmacy%20and%20Pharmaceutical%20Sciences":MAILTO:pharmacy.gocougs@wsu.edu
END:VEVENT
END:VCALENDAR