BEGIN:VCALENDAR
VERSION:2.0
PRODID:-//Pharmacy and Pharmaceutical Sciences - ECPv6.1.3//NONSGML v1.0//EN
CALSCALE:GREGORIAN
METHOD:PUBLISH
X-ORIGINAL-URL:https://pharmacy.wsu.edu
X-WR-CALDESC:Events for Pharmacy and Pharmaceutical Sciences
REFRESH-INTERVAL;VALUE=DURATION:PT1H
X-Robots-Tag:noindex
X-PUBLISHED-TTL:PT1H
BEGIN:VTIMEZONE
TZID:America/Los_Angeles
BEGIN:DAYLIGHT
TZOFFSETFROM:-0800
TZOFFSETTO:-0700
TZNAME:PDT
DTSTART:20240310T100000
END:DAYLIGHT
BEGIN:STANDARD
TZOFFSETFROM:-0700
TZOFFSETTO:-0800
TZNAME:PST
DTSTART:20241103T090000
END:STANDARD
END:VTIMEZONE
BEGIN:VEVENT
DTSTART;TZID=America/Los_Angeles:20241204T170000
DTEND;TZID=America/Los_Angeles:20241204T190000
DTSTAMP:20260424T162946
CREATED:20241112T170013Z
LAST-MODIFIED:20241112T170013Z
UID:10000532-1733331600-1733338800@pharmacy.wsu.edu
SUMMARY:Yakima CougaRx Nation Alumni and Friend Holiday Party
DESCRIPTION:Help us celebrate the season at our Yakima CougaRx Nation Alumni & Friends Holiday Party. After a long year\, this is your opportunity to reconnect and engage with the Cougar pharmily. Do you know someone who would make a terrific pharmacist? Invite them\, too! We welcome all friends and family of our wonderful WSU College of Pharmacy and Pharmaceutical Sciences community. \nThere will be refreshments\, Professional Pharmacy Student Organization (PPSO) apparel sales\, and plenty of winter cheer to go around. Just be sure to RSVP! That will be your ticket for entering into our door prize drawings (must be present to win). Admission is free\, but if you are able\, please consider bringing a food item to donate to the student pantry. \nRSVP Here!
URL:https://pharmacy.wsu.edu/calendar/yakima-cougarx-nation-alumni-and-friend-holiday-party/
LOCATION:: MultiCare Learning Center and Delta Dental Equity Hall\, 3008 Inspiration Drive\, Yakima\, WA\, 98901\, United States
CATEGORIES:Alumni,Bachelor of Science in Pharmaceutical and Medical Sciences,Doctor of Pharmacy,Faculty,PhD in Pharmaceutical Sciences and Molecular Medicine,Prospective Students
ATTACH;FMTTYPE=image/jpeg:https://wpcdn.web.wsu.edu/wp-spokane/uploads/sites/3060/2024/11/AdobeStock_232500720.jpeg
ORGANIZER;CN="College%20of%20Pharmacy%20and%20Pharmaceutical%20Sciences":MAILTO:pharmacy.gocougs@wsu.edu
END:VEVENT
END:VCALENDAR