BEGIN:VCALENDAR
VERSION:2.0
PRODID:-//Pharmacy and Pharmaceutical Sciences - ECPv6.1.3//NONSGML v1.0//EN
CALSCALE:GREGORIAN
METHOD:PUBLISH
X-WR-CALNAME:Pharmacy and Pharmaceutical Sciences
X-ORIGINAL-URL:https://pharmacy.wsu.edu
X-WR-CALDESC:Events for Pharmacy and Pharmaceutical Sciences
REFRESH-INTERVAL;VALUE=DURATION:PT1H
X-Robots-Tag:noindex
X-PUBLISHED-TTL:PT1H
BEGIN:VTIMEZONE
TZID:America/Los_Angeles
BEGIN:DAYLIGHT
TZOFFSETFROM:-0800
TZOFFSETTO:-0700
TZNAME:PDT
DTSTART:20240310T100000
END:DAYLIGHT
BEGIN:STANDARD
TZOFFSETFROM:-0700
TZOFFSETTO:-0800
TZNAME:PST
DTSTART:20241103T090000
END:STANDARD
END:VTIMEZONE
BEGIN:VEVENT
DTSTART;TZID=America/Los_Angeles:20241107T121000
DTEND;TZID=America/Los_Angeles:20241107T130000
DTSTAMP:20260424T185733
CREATED:20240702T232535Z
LAST-MODIFIED:20240702T232535Z
UID:10000500-1730981400-1730984400@pharmacy.wsu.edu
SUMMARY:Career Seminar Series: Epidemiology of Poisoning and Treatment
DESCRIPTION:James Leonard will be sharing his expertise as a pharmacist and clinical toxicologist. He graduated from the college in 2016 before pursuing a PGY1 pharmacy residency at Providence St. Peter’s Health in Olympia\, Washington\, followed by a two-year clinical toxicology fellowship at the Maryland Poison Center. After completing the fellowship\, he stayed with the Maryland Poison Center in various leadership roles including time as a clinical toxicologist\, assistant director\, then the director of clinical services and associate professor at the University of Maryland Baltimore School of Pharmacy. He recently moved back to Washington to join the Washington Poison Center as the Managing Director. His teaching and practice interests are focused on care of patients and his research is in epidemiology of poisoning and treatment of the patient. \n\nSpokane: PBS 101\nYakima: CSC 101\n\nStudents\, please RSVP so we have an accurate count for lunch numbers. \nThank you to STCU and Walgreens for sponsoring the Career Seminar Series.
URL:https://pharmacy.wsu.edu/calendar/career-seminar-series-epidemiology-of-poisoning-and-treatment/
LOCATION:SPBS 101 – Walgreens Auditorium\, Spokane\, WA\, United States
CATEGORIES:Alumni,Career Seminar Series,Faculty,Prospective Students
ORGANIZER;CN="College%20of%20Pharmacy%20and%20Pharmaceutical%20Sciences":MAILTO:pharmacy.gocougs@wsu.edu
END:VEVENT
END:VCALENDAR