BEGIN:VCALENDAR
VERSION:2.0
PRODID:-//Pharmacy and Pharmaceutical Sciences - ECPv6.1.3//NONSGML v1.0//EN
CALSCALE:GREGORIAN
METHOD:PUBLISH
X-WR-CALNAME:Pharmacy and Pharmaceutical Sciences
X-ORIGINAL-URL:https://pharmacy.wsu.edu
X-WR-CALDESC:Events for Pharmacy and Pharmaceutical Sciences
REFRESH-INTERVAL;VALUE=DURATION:PT1H
X-Robots-Tag:noindex
X-PUBLISHED-TTL:PT1H
BEGIN:VTIMEZONE
TZID:America/Los_Angeles
BEGIN:DAYLIGHT
TZOFFSETFROM:-0800
TZOFFSETTO:-0700
TZNAME:PDT
DTSTART:20240310T100000
END:DAYLIGHT
BEGIN:STANDARD
TZOFFSETFROM:-0700
TZOFFSETTO:-0800
TZNAME:PST
DTSTART:20241103T090000
END:STANDARD
END:VTIMEZONE
BEGIN:VEVENT
DTSTART;TZID=America/Los_Angeles:20240207T173000
DTEND;TZID=America/Los_Angeles:20240207T200000
DTSTAMP:20260425T160259
CREATED:20240112T230519Z
LAST-MODIFIED:20240206T170020Z
UID:10000471-1707327000-1707336000@pharmacy.wsu.edu
SUMMARY:Vancouver CougaRx Nation Social
DESCRIPTION:Join us for our upcoming CougaRx Nation Social in Vancouver\, Washington to connect and engage with other area Cougar pharmacists while enjoying complimentary appetizers and beverages. \nKnow someone who would make the perfect future Cougar pharmacist? Invite them to join us as well. All Coug pharmacists\, family and friends are welcome! \nRSVP by phone or email: Kelly Sylvester at 509-723-7218 or kelly.sylvester@wsu.edu.
URL:https://pharmacy.wsu.edu/calendar/vancouver-cougarx-nation-social/
LOCATION:Waterfront Taphouse\, 801 Waterfront Way\, Suite 203\, Vancouver\, WA\, 98660\, United States
CATEGORIES:Alumni
ATTACH;FMTTYPE=image/jpeg:https://wpcdn.web.wsu.edu/wp-spokane/uploads/sites/3060/2023/04/IMG_0125-scaled.jpg
ORGANIZER;CN="College%20of%20Pharmacy%20and%20Pharmaceutical%20Sciences":MAILTO:pharmacy.gocougs@wsu.edu
END:VEVENT
END:VCALENDAR